BEGIN:VCALENDAR
VERSION:2.0
PRODID:-//The O&#039;Liver Pub - ECPv6.15.18//NONSGML v1.0//EN
CALSCALE:GREGORIAN
METHOD:PUBLISH
X-ORIGINAL-URL:https://oliverpub.fr
X-WR-CALDESC:Évènements pour The O&#039;Liver Pub
REFRESH-INTERVAL;VALUE=DURATION:PT1H
X-Robots-Tag:noindex
X-PUBLISHED-TTL:PT1H
BEGIN:VTIMEZONE
TZID:Europe/Paris
BEGIN:DAYLIGHT
TZOFFSETFROM:+0100
TZOFFSETTO:+0200
TZNAME:CEST
DTSTART:20250330T010000
END:DAYLIGHT
BEGIN:STANDARD
TZOFFSETFROM:+0200
TZOFFSETTO:+0100
TZNAME:CET
DTSTART:20251026T010000
END:STANDARD
BEGIN:DAYLIGHT
TZOFFSETFROM:+0100
TZOFFSETTO:+0200
TZNAME:CEST
DTSTART:20260329T010000
END:DAYLIGHT
BEGIN:STANDARD
TZOFFSETFROM:+0200
TZOFFSETTO:+0100
TZNAME:CET
DTSTART:20261025T010000
END:STANDARD
BEGIN:DAYLIGHT
TZOFFSETFROM:+0100
TZOFFSETTO:+0200
TZNAME:CEST
DTSTART:20270328T010000
END:DAYLIGHT
BEGIN:STANDARD
TZOFFSETFROM:+0200
TZOFFSETTO:+0100
TZNAME:CET
DTSTART:20271031T010000
END:STANDARD
END:VTIMEZONE
BEGIN:VEVENT
DTSTART;TZID=Europe/Paris:20260403T210000
DTEND;TZID=Europe/Paris:20260403T233000
DTSTAMP:20260422T033025
CREATED:20260402T114400Z
LAST-MODIFIED:20260402T114400Z
UID:1563-1775250000-1775259000@oliverpub.fr
SUMMARY:Namas Pamous
DESCRIPTION:Les splendides NAMAS PAMOUS avec leur formidable manière de vous faire chanter et danser vont faire de cette soirée une folle soirée \nFiesta assurée
URL:https://oliverpub.fr/evenement/namas-pamous/
LOCATION:O’liver Pub\, 909\, Avenue des Platanes\, Lattes\, 34970\, France
CATEGORIES:Concerts
ORGANIZER;CN="O'liver Pub":MAILTO:theoliverpublattes@gmail.com
END:VEVENT
END:VCALENDAR